BEGIN:VCALENDAR
VERSION:2.0
PRODID:-//Chiang Mai Kids by BKK Kids - ECPv6.15.17.1//NONSGML v1.0//EN
CALSCALE:GREGORIAN
METHOD:PUBLISH
X-WR-CALNAME:Chiang Mai Kids by BKK Kids
X-ORIGINAL-URL:https://www.chiangmaikids.com
X-WR-CALDESC:Events for Chiang Mai Kids by BKK Kids
REFRESH-INTERVAL;VALUE=DURATION:PT1H
X-Robots-Tag:noindex
X-PUBLISHED-TTL:PT1H
BEGIN:VTIMEZONE
TZID:Asia/Bangkok
BEGIN:STANDARD
TZOFFSETFROM:+0700
TZOFFSETTO:+0700
TZNAME:+07
DTSTART:20240101T000000
END:STANDARD
END:VTIMEZONE
BEGIN:VEVENT
DTSTART;TZID=Asia/Bangkok:20251230T080000
DTEND;TZID=Asia/Bangkok:20251230T170000
DTSTAMP:20260423T174730
CREATED:20250912T085204Z
LAST-MODIFIED:20250925T081620Z
UID:10006491-1767081600-1767114000@www.chiangmaikids.com
SUMMARY:Prem International School Tiny Tales & Tunes Playgroup
DESCRIPTION:Tiny Tales & Tunes is back!\nJoin us in the Prem School Library for a fun-filled morning of picture books\, songs\, rhymes\, and movement activities; Perfect for toddlers and young children. This event is open to Prem siblings and non-Prem families and is a great way to connect\, play\, and explore stories together.\n\nSpaces limited to 20 children.\n\n\n Tuesday 23 September 2025\n 8:00–8:45 AM\n Prem School Library\n\n\nScan the QR code on the poster to register and secure your spot today!
URL:https://www.chiangmaikids.com/family-friendly-event-in-chiangmai/prem-international-school-tiny-tales-tunes-playgroup/2025-12-30/
LOCATION:Prem International School\, 234 Moo 3 Huay Sai\, Mae Rim\,\, Chiang Mai\, Chiang Mai\, 50180\, Thailand
ATTACH;FMTTYPE=image/png:https://www.chiangmaikids.com/wp-content/uploads/2025/09/Tiny-Tales-Tunes-2-2.png
ORGANIZER;CN="Prem International School":MAILTO:admissions@ptis.ac.th
END:VEVENT
BEGIN:VEVENT
DTSTART;TZID=Asia/Bangkok:20251125T080000
DTEND;TZID=Asia/Bangkok:20251125T084500
DTSTAMP:20260423T174730
CREATED:20251111T090411Z
LAST-MODIFIED:20251111T090411Z
UID:10006531-1764057600-1764060300@www.chiangmaikids.com
SUMMARY:Prem International School Tiny Tales & Tunes
DESCRIPTION: Tiny Tales & Tunes at Prem International School Looking for something fun to do with your toddler or young child? Join us in the Prem School Library for a monthly morning of stories\, songs\, and play! Enjoy delightful picture books Sing songs and rhymes (with instruments!) Play games and move togetherFamilies are also welcome to explore our Early Years Centre (optional) and enjoy a treat at our on-site café . When: Last Tuesday of every month (during the school year) Next session: Tuesday\, 25th November 8:00 – 8:45 AM Prem School Library Open to all toddlers and young children – you don’t need to be part of the Prem community to join Spaces limited to 20 children – sign up early to secure your spot!
URL:https://www.chiangmaikids.com/family-friendly-event-in-chiangmai/prem-international-school-tiny-tales-tunes-2/
LOCATION:Prem International School\, 234 Moo 3 Huay Sai\, Mae Rim\,\, Chiang Mai\, Chiang Mai\, 50180\, Thailand
ATTACH;FMTTYPE=image/png:https://www.chiangmaikids.com/wp-content/uploads/2025/11/IMG_0762-scaled-e1762851779711.png
ORGANIZER;CN="Prem International School":MAILTO:admissions@ptis.ac.th
END:VEVENT
BEGIN:VEVENT
DTSTART;TZID=Asia/Bangkok:20251028T080000
DTEND;TZID=Asia/Bangkok:20251028T084500
DTSTAMP:20260423T174730
CREATED:20251028T124716Z
LAST-MODIFIED:20251028T124716Z
UID:10006520-1761638400-1761641100@www.chiangmaikids.com
SUMMARY:Prem International School Tiny Tales & Tunes
DESCRIPTION: Tiny Tales & Tunes – Halloween Edition! Join us in the Prem School Library for a fun-filled morning of stories\, songs\, and movement — specially designed for toddlers and young children! Open to Prem siblings and non-Prem families too — everyone is welcome! Enjoy picture books\, rhymes\, and plenty of giggles in a friendly\, creative space. Tuesday\, 28 October 2025 8:00am–8:45am Prem School Library Limited to 20 children – Register now!Come dressed in your favourite Halloween outfit and join the fun!
URL:https://www.chiangmaikids.com/family-friendly-event-in-chiangmai/prem-international-school-tiny-tales-tunes/
LOCATION:Prem International School\, 234 Moo 3 Huay Sai\, Mae Rim\,\, Chiang Mai\, Chiang Mai\, 50180\, Thailand
ATTACH;FMTTYPE=image/png:https://www.chiangmaikids.com/wp-content/uploads/2025/10/image-64.png
ORGANIZER;CN="Prem International School":MAILTO:admissions@ptis.ac.th
END:VEVENT
END:VCALENDAR