BEGIN:VCALENDAR
VERSION:2.0
PRODID:-//Chiang Mai Kids by BKK Kids - ECPv6.15.17.1//NONSGML v1.0//EN
CALSCALE:GREGORIAN
METHOD:PUBLISH
X-ORIGINAL-URL:https://www.chiangmaikids.com
X-WR-CALDESC:Events for Chiang Mai Kids by BKK Kids
REFRESH-INTERVAL;VALUE=DURATION:PT1H
X-Robots-Tag:noindex
X-PUBLISHED-TTL:PT1H
BEGIN:VTIMEZONE
TZID:Asia/Bangkok
BEGIN:STANDARD
TZOFFSETFROM:+0700
TZOFFSETTO:+0700
TZNAME:+07
DTSTART:20250101T000000
END:STANDARD
END:VTIMEZONE
BEGIN:VEVENT
DTSTART;TZID=Asia/Bangkok:20260110T160000
DTEND;TZID=Asia/Bangkok:20260110T210000
DTSTAMP:20260422T195125
CREATED:20260107T164525Z
LAST-MODIFIED:20260107T164525Z
UID:10007391-1768060800-1768078800@www.chiangmaikids.com
SUMMARY:Greenpark Children’s Day
DESCRIPTION:✨ Give kids a stage to show their talent and dream big! ✨ \nThis Children’s Day\, Greenpark invites kids to unleash their talents and shine ⭐Whether it’s singing\, dancing\, playing music\, or any kind of performance — everyone can shine! \nKids Talent Day \n Saturday\, 10 January 2026⏰ 16:00–21:00 Greenpark Community Mall \n Fun-filled activities include:• Talent performances (advance registration required)• Game booths• Random Dance (open for everyone to join) \n Registration open until 8 January 2026Register here:https://docs.google.com/…/1FAIpQLScSdqrIhIC…/viewform \nCome have fun\, create smiles\, and make wonderful memories together as a family
URL:https://www.chiangmaikids.com/family-friendly-event-in-chiangmai/greenpark-childrens-day/
LOCATION:Greenpark Community Mall\, 94 หมู่ 4 ตำบล ฟ้าฮ่าม อำเภอเมืองเชียงใหม่ เชียงใหม่ 50000 ถนน เชียงใหม่- ดอยสะเก็ด Chiang Mai\, Thailand\, Chiang Mai\, Chiang Mai\, 50000\, Thailand
ATTACH;FMTTYPE=image/png:https://www.chiangmaikids.com/wp-content/uploads/2026/01/image-460.png
ORGANIZER;CN="Greenpark Community Mall":MAILTO:kpg.nutida@gmail.com
END:VEVENT
END:VCALENDAR