BEGIN:VCALENDAR
VERSION:2.0
PRODID:-//Chiang Mai Kids by BKK Kids - ECPv6.15.17.1//NONSGML v1.0//EN
CALSCALE:GREGORIAN
METHOD:PUBLISH
X-WR-CALNAME:Chiang Mai Kids by BKK Kids
X-ORIGINAL-URL:https://www.chiangmaikids.com
X-WR-CALDESC:Events for Chiang Mai Kids by BKK Kids
REFRESH-INTERVAL;VALUE=DURATION:PT1H
X-Robots-Tag:noindex
X-PUBLISHED-TTL:PT1H
BEGIN:VTIMEZONE
TZID:Asia/Bangkok
BEGIN:STANDARD
TZOFFSETFROM:+0700
TZOFFSETTO:+0700
TZNAME:+07
DTSTART:20220101T000000
END:STANDARD
END:VTIMEZONE
BEGIN:VEVENT
DTSTART;TZID=Asia/Bangkok:20230701T093000
DTEND;TZID=Asia/Bangkok:20230702T163000
DTSTAMP:20260423T231519
CREATED:20230612T030517Z
LAST-MODIFIED:20230612T030517Z
UID:10000238-1688203800-1688315400@www.chiangmaikids.com
SUMMARY:Global Art & Creative-Thailand – GA Open House
DESCRIPTION:Invite all children to join the Open House activities at Global Art. \nDate: 1-2 July 2023\nTime: 9.30-16.00 \nActivities\n• Clay making activity “Cute sea creatures”\n• Coloring fairy tale crown and ready to learn the technique of oil pastel painting.\n• Free trial class\n• Special promotion within the event day only \nRegister herre: https://forms.gle/hkGxinWedkQwKCod7 \nPromotion terms and conditions\n1. This promotion can be used for both new and old students.\n2. This promotion cannot be used in conjunction with other promotions within the institution.\n3. The Institute reserves the right to make changes. Modify activities without prior notice.\n4. Some activities are reserved for students in institutions only.\n5. Beverly Hills style rubber rings\, only for the first 20 people of each branch. conditional enrollment \nFor more information\n@Curve branch Tel. 053-105-715\, 087-788-4765\nKad Farang branch Tel. 052-001-520\, 087-788-4765\nMeechokplaza branch Tel. 053-230-303\, 087-788-4765
URL:https://www.chiangmaikids.com/family-friendly-event-in-chiangmai/global-art-creative-thailand-ga-open-house/
LOCATION:Global Art & Creative-Thailand\, Chiang Mai\, 185/4 Chang Khlan Road\, Chang Khlan Subdistrict\, Mueang Chiang Mai District\,\, Chiang Mai\, Chiang Mai\, 50100\, Thailand
ATTACH;FMTTYPE=image/jpeg:https://www.chiangmaikids.com/wp-content/uploads/2023/06/FB_IMG_1686356012380.jpg
END:VEVENT
END:VCALENDAR