BEGIN:VCALENDAR
VERSION:2.0
PRODID:-//Chiang Mai Kids by BKK Kids - ECPv6.15.17.1//NONSGML v1.0//EN
CALSCALE:GREGORIAN
METHOD:PUBLISH
X-ORIGINAL-URL:https://www.chiangmaikids.com
X-WR-CALDESC:Events for Chiang Mai Kids by BKK Kids
REFRESH-INTERVAL;VALUE=DURATION:PT1H
X-Robots-Tag:noindex
X-PUBLISHED-TTL:PT1H
BEGIN:VTIMEZONE
TZID:Asia/Bangkok
BEGIN:STANDARD
TZOFFSETFROM:+0700
TZOFFSETTO:+0700
TZNAME:+07
DTSTART:20220101T000000
END:STANDARD
END:VTIMEZONE
BEGIN:VEVENT
DTSTART;TZID=Asia/Bangkok:20260410T120000
DTEND;TZID=Asia/Bangkok:20260416T190000
DTSTAMP:20260423T020104
CREATED:20260408T060502Z
LAST-MODIFIED:20260408T060502Z
UID:10007768-1775822400-1776366000@www.chiangmaikids.com
SUMMARY:Central Chiangmai Songkran Summer Fun Fest 2026
DESCRIPTION:🐙🚤 Are the kids ready? Central Chiangmai is all set for Songkran fun! 🌼💦 \nCENTRAL CHIANGMAI x SPLASHTOPIA by Kiztopiaplus a Non-Alcohol Zone 🔫💦 \nA fun-filled family zone where everyone can enjoy together — free entry and free play! 😎 \nGet ready for a giant water-themed inflatable playground\, bringing excitement straight from Singapore for little ones and the whole family. This magical splash-filled playland opens from midday onwards\, so children can enjoy the fun all afternoon 💦 \n🌈🌈 7 full days of nonstop fun ⛱️🔫 10–16 April 2026⏰ 12:00 PM – 7:00 PM📍 Activity Area in front of Central Chiangmai (Central Festival) \nConditions\n• Customers must have a same-day purchase receipt of 300 THB or more from within the shopping mall• Download CentralX and register as a new or existing member to receive a special access offer (limited availability)• Terms and conditions are subject to company policy \nPlease note:• Children under 101 cm in height must be closely supervised by a parent or guardian• This activity is reserved for children under 15 years of age only
URL:https://www.chiangmaikids.com/family-friendly-event-in-chiangmai/central-chiangmai-songkran-summer-fun-fest-2026/
LOCATION:Central Chiangmai Festival\, Super Highway Road\, T. Faham\, A. Muang\,\, Chiang Mai\, Chiang Mai\, 50000\, Thailand
ATTACH;FMTTYPE=image/jpeg:https://www.chiangmaikids.com/wp-content/uploads/2026/04/IMG_7946-e1775628231865.jpg
END:VEVENT
BEGIN:VEVENT
DTSTART;TZID=Asia/Bangkok:20260110T110000
DTEND;TZID=Asia/Bangkok:20260111T190000
DTSTAMP:20260423T020104
CREATED:20260107T163356Z
LAST-MODIFIED:20260107T163708Z
UID:10007388-1768042800-1768158000@www.chiangmaikids.com
SUMMARY:Central Chiangmai Children’s Day
DESCRIPTION:Central Chiangmai (Central Festival) invites everyone to join the ultimate fun kids have been waiting for at \nCENTRAL CHIANGMAI KID’S DAY 2026 \nA variety-packed Children’s Day event bringing together all the excitement for little explorers in one place!Let kids adventure\, play\, spark their imagination\, and enjoy smiles throughout the event ✨ \nHighlights you can’t miss! \nDINO MAZE ADVENTUREA giant dinosaur maze in the middle of the mall where kids can run\, explore\, and complete exciting missions10–11 January 20261st Floor Promotion Area \nJUMPTOPIA x CENTRAL CHIANGMAI KIDS MARKETA massive inflatable zone for kids to jump and release their energy\, followed by a cute kids’ market filled with toys\, gifts\, and creative ideas for the whole family8–11 January 2026 | 16:00–22:00Outdoor activity area in front of the mall \nParents are warmly invited to bring their children and pin this as your family fun destination atCentral Chiangmai
URL:https://www.chiangmaikids.com/family-friendly-event-in-chiangmai/central-chiangmai-childrens-day/
LOCATION:Central Chiangmai Festival\, Super Highway Road\, T. Faham\, A. Muang\,\, Chiang Mai\, Chiang Mai\, 50000\, Thailand
ATTACH;FMTTYPE=image/png:https://www.chiangmaikids.com/wp-content/uploads/2026/01/image-450.png
END:VEVENT
BEGIN:VEVENT
DTSTART;TZID=Asia/Bangkok:20251030T100000
DTEND;TZID=Asia/Bangkok:20251102T170000
DTSTAMP:20260423T020104
CREATED:20251028T125529Z
LAST-MODIFIED:20251028T125529Z
UID:10006521-1761818400-1762102800@www.chiangmaikids.com
SUMMARY:CANCELLED Central Chiangmai Halloween Spooky Boo Party
DESCRIPTION:This Halloween\, get spooky at Central Chiangmai (Central Festival)! Join us for a frightfully fun celebration from 31 October – 2 November 2025 Ground Floor\, Central Chiangmai (Central Festival)
URL:https://www.chiangmaikids.com/family-friendly-event-in-chiangmai/cancelled-central-chiangmai-halloween-spooky-boo-party/
LOCATION:Central Chiangmai Festival\, Super Highway Road\, T. Faham\, A. Muang\,\, Chiang Mai\, Chiang Mai\, 50000\, Thailand
ATTACH;FMTTYPE=image/png:https://www.chiangmaikids.com/wp-content/uploads/2025/10/image-65.png
END:VEVENT
BEGIN:VEVENT
DTSTART;TZID=Asia/Bangkok:20231223T140000
DTEND;TZID=Asia/Bangkok:20231224T180000
DTSTAMP:20260423T020104
CREATED:20231223T023059Z
LAST-MODIFIED:20231223T023059Z
UID:10001686-1703340000-1703440800@www.chiangmaikids.com
SUMMARY:Central Chiang Mai Kids Christmas Workshop
DESCRIPTION:KIDS CHRISTMAS WORKSHOP welcomes the festival of happiness with the theme CHRISTMAS PARTY\, organizing workshop activities for children and members of CentralFamilyClub. Join the free activity!! with activities from leading stores within the shopping center \nIf interested in applying to register for WORKSHOP according to the date and time\, click add Line @CentralChiangmai  https://lin.ee/v67TfJO\nDecember 23\nClayWorks 3rd floor\nWORKSHOP “LIGHT CLAY CRAFT KEYCHAIN” BY CLAYWORKS\nTime: 2:00 p.m. – 4:00 p.m.\, 10 people \nCharm Bakery\, 5th floor\nWORKSHOP “HAPPY CHRISTMAS CAKE BY CHARM BAKERY”\nTime: 4:00 p.m. – 6:00 p.m.\, 10 people \nDecember 24th\nMinimelts 4th floor\nWORKSHOP “CHRISTMAS ICE CREAM CUTE” BY MINIMELTS\nTime: 2:00 p.m. – 4:00 p.m.\, 10 people \n Ask about various products and services. In the Central Chiang Mai Shopping Center (Central Festival) click add Line @CentralChiangmai\n https://lin.ee/v67TfJO Central Chiang Mai Shopping Center
URL:https://www.chiangmaikids.com/family-friendly-event-in-chiangmai/central-chiang-mai-kids-christmas-workshop/
LOCATION:Central Chiangmai Festival\, Super Highway Road\, T. Faham\, A. Muang\,\, Chiang Mai\, Chiang Mai\, 50000\, Thailand
END:VEVENT
BEGIN:VEVENT
DTSTART;TZID=Asia/Bangkok:20230623T080000
DTEND;TZID=Asia/Bangkok:20230630T170000
DTSTAMP:20260423T020104
CREATED:20230623T143359Z
LAST-MODIFIED:20230623T143359Z
UID:10000989-1687507200-1688144400@www.chiangmaikids.com
SUMMARY:The Pizza Company 1112 – The Pizza Junior Chef
DESCRIPTION:The Pizza Junior Chef at the Pizza Company \nFor more information and register \nCentral Festival Chiang Mai branch\, call 092-276-4084\nor you can call 1112 \nAGE: 5-12 Yrs.\nPrice: 399 THB/Person \n   \n 
URL:https://www.chiangmaikids.com/family-friendly-event-in-chiangmai/the-pizza-company-1112-the-pizza-junior-chef/
LOCATION:Central Chiangmai Festival\, Super Highway Road\, T. Faham\, A. Muang\,\, Chiang Mai\, Chiang Mai\, 50000\, Thailand
ATTACH;FMTTYPE=image/jpeg:https://www.chiangmaikids.com/wp-content/uploads/2023/06/FB_IMG_1687509850393.jpg
ORGANIZER;CN="The Pizza Company":MAILTO:tpc1112.facebook@gmail.com
END:VEVENT
BEGIN:VEVENT
DTSTART;TZID=Asia/Bangkok:20230616T160000
DTEND;TZID=Asia/Bangkok:20230625T000000
DTSTAMP:20260423T020104
CREATED:20230619T125753Z
LAST-MODIFIED:20230619T125753Z
UID:10000243-1686931200-1687651200@www.chiangmaikids.com
SUMMARY:Central Chiangmai – Fun & Friends Zone
DESCRIPTION:‘ Fun & Friends Zone ‘  \n\n Entry Free !! Time: 16.00-24.00\nDate: 16 – 25 June 2023 \n\nLocation: Central Festival Chiang Mai\n\n\n\nFor more information  Chat & Shop or Line @CentralChiangmai  https://lin.ee/v67TfJO \n 
URL:https://www.chiangmaikids.com/family-friendly-event-in-chiangmai/central-chiangmai-fun-friends-zone/
LOCATION:Central Chiangmai Festival\, Super Highway Road\, T. Faham\, A. Muang\,\, Chiang Mai\, Chiang Mai\, 50000\, Thailand
ATTACH;FMTTYPE=image/jpeg:https://www.chiangmaikids.com/wp-content/uploads/2023/06/354416758_571165501876700_1771728504575828720_n.jpg
END:VEVENT
BEGIN:VEVENT
DTSTART;TZID=Asia/Bangkok:20230609T080000
DTEND;TZID=Asia/Bangkok:20230611T170000
DTSTAMP:20260423T020104
CREATED:20230608T141726Z
LAST-MODIFIED:20230608T141726Z
UID:10000227-1686297600-1686502800@www.chiangmaikids.com
SUMMARY:Central Chiangmai – Kids Reading Fest 2023
DESCRIPTION: Central Chiagmai Kids Reading Fest  at Central Chiangmai in conjunction with เชียงใหม่อ่าน ( Read for life Chiangmai)\nเขียว สวย หอม Greenery.Beauty.Scent\, Mea Jib เลี้ยงลูกให้โตไปกับหนังสือ (yimwhanfamily2016 )\,Mea Oh สบายอย่างแม่  (ChillMomOfficial )a page raising children to grow up with books\, Promote a reading culture cultivate the seeds of youth to have the habit of reading. with fun activities with hidden meaning “Play\, Knowledge\, Watch\, Read” \n “Play” and enjoy the learning base with the Living Library Photo Hunting\, a city-building story fair. with fun stories Nong La’s World \, Nong La Find Phak Kaeng Khae \, Yuu Dee Mee Roi Yim \, Tales of 13 Wild Boars \n “Knowledge” read have fun\, grow to be\, tell stories and learn about trees. Ready to practice real planting \n “Watch” the hand puppet storytelling. \n “Read” to know books that are suitable for children of each age. Seize the golden age of learning with books with the activity “Hold the child\, sit on the lap\, media love with books” \n Holding the baby in the lap love from parents (Parents read books since pregnancy)\n Holding a baby\, sitting in your lap Media of love from grandparents’ lap (Grandparents read a book in the local language)\n Hold the baby in the lap. Love media from teachers (Ajarn Pom reads stories in English) \n June 9-11\, 2023\, 1st floor\, Central Chiang Mai (Menfest) \n For more information click add Line @CentralChiangmai \nhttps://lin.ee/v67TfJO\n@CentralChiangmai \n 
URL:https://www.chiangmaikids.com/family-friendly-event-in-chiangmai/central-chiangmai-kids-reading-fest-2023/
LOCATION:Central Chiangmai Festival\, Super Highway Road\, T. Faham\, A. Muang\,\, Chiang Mai\, Chiang Mai\, 50000\, Thailand
ATTACH;FMTTYPE=image/jpeg:https://www.chiangmaikids.com/wp-content/uploads/2023/06/IMG_6118.jpg
END:VEVENT
END:VCALENDAR