BEGIN:VCALENDAR
VERSION:2.0
PRODID:-//Chiang Mai Kids by BKK Kids - ECPv6.15.17.1//NONSGML v1.0//EN
CALSCALE:GREGORIAN
METHOD:PUBLISH
X-WR-CALNAME:Chiang Mai Kids by BKK Kids
X-ORIGINAL-URL:https://www.chiangmaikids.com
X-WR-CALDESC:Events for Chiang Mai Kids by BKK Kids
REFRESH-INTERVAL;VALUE=DURATION:PT1H
X-Robots-Tag:noindex
X-PUBLISHED-TTL:PT1H
BEGIN:VTIMEZONE
TZID:Asia/Bangkok
BEGIN:STANDARD
TZOFFSETFROM:+0700
TZOFFSETTO:+0700
TZNAME:+07
DTSTART:20250101T000000
END:STANDARD
END:VTIMEZONE
BEGIN:VEVENT
DTSTART;TZID=Asia/Bangkok:20260112T091500
DTEND;TZID=Asia/Bangkok:20260610T160000
DTSTAMP:20260424T152143
CREATED:20260120T143951Z
LAST-MODIFIED:20260120T144006Z
UID:10007690-1768209300-1781107200@www.chiangmaikids.com
SUMMARY:Bright Seeds Semester 2 Playgroup
DESCRIPTION:Semester 2 Playgroup is now open! Join us at Bright Seeds Playgroup \nJOIN US FOR A FREE TRIAL FOR YOUR FIRST SESSION! \nSign up here:https://forms.gle/Vvkj8mx8vpENxMVK9 \nThe free trial class is available only after payment for at least one class is made in advance. The first class will be free\, and the payment will be applied to the following class. \nPlaygroup Class Schedule \nMondays | 9:15 – 10:30 AMJan 12\, 19\, 26Feb 2\, 9\, 16\, 23Mar 2\, 9\, 16\, 23Apr 20\, 27May 4\, 11\, 18\, 25Jun 1 \nWednesdays | 2:45 – 4:00 PMJan 14\, 21\, 28Feb 4\, 11\, 18\, 25Mar 4\, 11\, 18Apr 22\, 29May 6\, 13\, 20\, 27Jun 10 \nPlaygroup at Bright Seeds is back in Semester 2\, with additional classes from January – June 2026.We’re ready to bring more opportunities for play\, discovery\, and joyful learning for our young seeds and their families. \nLocation: Bright Seeds International Kindergarten \nParent or guardian must accompany the child at all times (1–2 adults per child)Please bring a spare set of clothes for messy play \nSpaces are limited — come and experience your first session.
URL:https://www.chiangmaikids.com/family-friendly-event-in-chiangmai/bright-seeds-semester-2-playgroup/
LOCATION:Bright Seeds International Kindergarten\, Bright Seeds Kindergarten \, Thailand\, Chiang Mai\, Chiang Mai\, 50300\, Thailand
ATTACH;FMTTYPE=image/png:https://www.chiangmaikids.com/wp-content/uploads/2026/01/image-563.png
ORGANIZER;CN="Bright Seeds International Kindergarten":MAILTO:info@brightseeds.ac.th
END:VEVENT
END:VCALENDAR