BEGIN:VCALENDAR
VERSION:2.0
PRODID:-//Chiang Mai Kids by BKK Kids - ECPv6.15.17.1//NONSGML v1.0//EN
CALSCALE:GREGORIAN
METHOD:PUBLISH
X-ORIGINAL-URL:https://www.chiangmaikids.com
X-WR-CALDESC:Events for Chiang Mai Kids by BKK Kids
REFRESH-INTERVAL;VALUE=DURATION:PT1H
X-Robots-Tag:noindex
X-PUBLISHED-TTL:PT1H
BEGIN:VTIMEZONE
TZID:Asia/Bangkok
BEGIN:STANDARD
TZOFFSETFROM:+0700
TZOFFSETTO:+0700
TZNAME:+07
DTSTART:20250101T000000
END:STANDARD
END:VTIMEZONE
BEGIN:VEVENT
DTSTART;TZID=Asia/Bangkok:20260411T100000
DTEND;TZID=Asia/Bangkok:20260415T170000
DTSTAMP:20260422T200730
CREATED:20260403T145430Z
LAST-MODIFIED:20260403T145430Z
UID:10007766-1775901600-1776272400@www.chiangmaikids.com
SUMMARY:One Nimman Kids Pool Party Summer Spark
DESCRIPTION:💦🔥 FREE Water Park Pass at One Nimman! \nThis Songkran\, bring the kids to release their energy at a giant water park in the heart of Nimman!Join Kids Pool Party Summer Spark\, April 11–15 ✨ \n🏄🏻 Enjoy a 7-meter giant slide and large pools — run\, play\, slide\, and splash all day long! \n🎁 Get a FREE 30-minute water park pass \nHow to join 👇✅ Share this post (public)✅ Tag 2 friends in the comments✅ Screenshot and send it via Inbox to One Nimman to receive your E-Coupon \n📅 Join now – April 15\, 2026(Limited slots available — hurry!) \n📍 Redeem at the Kids Pool Party Summer Spark zone at One Nimman \n⚠️ Terms & Conditions• Limited to 1 person per coupon• Please present your E-Coupon to staff at the event• Cannot be exchanged for cash• Terms are subject to company conditions \n💦 Let the kids go all out this year — and adults can have fun too! \nTag your friends and family\, and see you there 🔫✨
URL:https://www.chiangmaikids.com/family-friendly-event-in-chiangmai/one-nimman-kids-pool-party-summer-spark/
LOCATION:One nimman\, 1 Nimmanhaemin Road\, Suthep\, Mueng Chiang Mai\, Chiang Mai\, Thailand\, Chiang Mai\, Chiang Mai\, Chiang Mai\, 50200\, Thailand
ATTACH;FMTTYPE=image/jpeg:https://www.chiangmaikids.com/wp-content/uploads/2026/04/IMG_7740-e1775228028307.jpg
ORGANIZER;CN="One nimman":MAILTO:saleseventmgr@onenimman.com
END:VEVENT
BEGIN:VEVENT
DTSTART;TZID=Asia/Bangkok:20260411T100000
DTEND;TZID=Asia/Bangkok:20260415T220000
DTSTAMP:20260422T200730
CREATED:20260408T070643Z
LAST-MODIFIED:20260408T070643Z
UID:10007774-1775901600-1776290400@www.chiangmaikids.com
SUMMARY:DaddyLion Songkran Festival 2026
DESCRIPTION:💦 This Songkran… Let’s Have Fun at DaddyLion! 🎉 \n📅 11–15 April 2026⏰ Activities: 11:00 AM – 7:00 PM🕙 Restaurant Hours: 10:00 AM – 10:00 PM \n🌊 Foam Party Fun💥 Unlimited play for only 50 THB!🎁 Free Lucky Draw every day!🎨 Free DIY Workshop – Classic Thai Toys✨ Enjoy traditional fun with banana stem crafts \n👨‍👩‍👧‍👦 Bring your family to play\, relax\, and enjoy great food —all-day happiness in one place! \n📍 See you there… the fun is waiting! 💙 \n⏰ Open DailyMon–Thu: 11:00–22:00Fri–Sun & Holidays: 10:00–22:00 \n🦁 DaddyLion • ROARING With Delight •“คำรามทุกความอิ่ม…ใจ” \n📍 Map: https://maps.app.goo.gl/ZYocLYSVyKyi9r1Y9📞 080 921 5666💬 LINE: https://lin.ee/Cia3C1D👉 More info: https://linktr
URL:https://www.chiangmaikids.com/family-friendly-event-in-chiangmai/daddylion-songkran-festival-2026/
LOCATION:DaddyLion\, 333 หมู่4 ต.ท่าวังตาล อ.สารภี\, Chiang Mai\, Thailand\, Chiang Mai\, Chiang Mai\, 50140\, Thailand
ATTACH;FMTTYPE=image/png:https://www.chiangmaikids.com/wp-content/uploads/2026/04/image-385-e1775631929862.png
ORGANIZER;CN="DaddyLion":MAILTO:daddylion.sale@gmail.com
END:VEVENT
BEGIN:VEVENT
DTSTART;TZID=Asia/Bangkok:20260412T100000
DTEND;TZID=Asia/Bangkok:20260413T170000
DTSTAMP:20260422T200730
CREATED:20260415T220605Z
LAST-MODIFIED:20260415T220605Z
UID:10007777-1775988000-1776099600@www.chiangmaikids.com
SUMMARY:Nic’s Songkran Day
DESCRIPTION:💦 Celebrate Songkran with your kids at Nic’s! \nEnjoy a safe\, fun\, and relaxed environment — perfect for families with younger children \n💧 Dedicated kids water play area🔫 Water gun refill station — bring your own🧸 Designed especially for younger children \nNo loud music\, no chaos — just happy kids and relaxed parents \n🍽️ Great food & plenty of space to unwind \n👉 Only April 12–13 (Sun & Mon)⚠️ Closed April 14–15 — so don’t miss it! \nBook ahead to secure your table
URL:https://www.chiangmaikids.com/family-friendly-event-in-chiangmai/nics-songkran-day/
LOCATION:Nics Restaurant & Playground\, 87 Moo 1\, Nong Kwai Subdistrict\, Hang Dong District\,\, Chiang Mai\, Chiang Mai\, 50230\, Thailand
ATTACH;FMTTYPE=image/jpeg:https://www.chiangmaikids.com/wp-content/uploads/2026/04/Image-from-iOS-e1776290712356.jpg
ORGANIZER;CN="Nics Restaurant & Playground":MAILTO:info@nics.asia
END:VEVENT
BEGIN:VEVENT
DTSTART;TZID=Asia/Bangkok:20260412T100000
DTEND;TZID=Asia/Bangkok:20260415T170000
DTSTAMP:20260422T200730
CREATED:20260408T060753Z
LAST-MODIFIED:20260408T060753Z
UID:10007769-1775988000-1776272400@www.chiangmaikids.com
SUMMARY:Grand Canyon Water Park Songkran Culture & Splash Festival 2026
DESCRIPTION:💦🔥 This Songkran\, it’s more than just water fights — it’s a legendary splash festival! 🏴‍☠️🎉 \n📍 Grand Canyon Water Park✨ Songkran Culture & Splash Festival 2026📅 12–15 April 2026 \n🌊 Enjoy water fun to the fullest in a spacious natural water park — open\, airy\, and never overcrowded💦 Play all day with comfort and safety across all zones! \n🎭 Cultural Shows & Entertainment \n12–14 April 2026🎭 Khon Show (Thai masked dance) — first time at the water park!🐉 Ten To Performance — mythical Himmapan forest creature🦁 Wild Animal Tribal Dance⚔️ Siamese Sword Fighting Show🥊 Muay Thai Show🏄 Zip & Skip Adventure Show — signature performance of the park🎤 MC games & giveaways throughout the day… and much more! \n15 April 2026🥊 Muay Thai Show🏄 Zip & Skip Adventure Show🎤 MC games & giveaways all day… and more fun activities! \n🌊 Splash into action with giant inflatable water attractions📸 Capture fun moments at scenic photo spots \nWhether you’re coming with friends\, family\, or creating content — this is a must-visit! \n⚡ This Songkran\, break away from the usual and level up your funat Grand Canyon Water Park 💙 \n🔍 For more information:💬 Inbox: m.me/Grandcanyonwaterpark☎️ Tel: 052-010-565📍 Location: https://goo.gl/maps/XeMQCQXpmwk65vjb6
URL:https://www.chiangmaikids.com/family-friendly-event-in-chiangmai/grand-canyon-water-park-songkran-culture-splash-festival-2026/
LOCATION:Grand Canyon Water Park\, Grand Canyon Water Park Address 202 Moo3 Namprae\, Hangdong\, Chiang Mai\, Chiang Mai\, 50230\, Thailand
ATTACH;FMTTYPE=image/jpeg:https://www.chiangmaikids.com/wp-content/uploads/2026/04/IMG_7945-e1775628367298.jpg
ORGANIZER;CN="Grand Canyon Water Park":MAILTO:grandcanyonwaterpark@gmail.com
END:VEVENT
BEGIN:VEVENT
DTSTART;TZID=Asia/Bangkok:20260415T100000
DTEND;TZID=Asia/Bangkok:20260415T170000
DTSTAMP:20260422T200730
CREATED:20260408T071129Z
LAST-MODIFIED:20260408T071129Z
UID:10007776-1776247200-1776272400@www.chiangmaikids.com
SUMMARY:We Learn Thai Chiang Mai Celebrate Songkran & Lanna New Year
DESCRIPTION:🌸 Celebrate Songkran & Lanna New Year with We Learn Thai Chiang Mai! 💦 \nDon’t just watch the festival — be a part of it! Join us for an authentic\, local-style Songkran celebration where we dive deep into the heart of Chiang Mai’s beautiful traditions. \n📅 Date: April 15\, 2026🕙 Time: Starting at 10:00 AM \n✨ What’s happening? \n1️⃣ Mai Kham Workshop & ProcessionBuild a “Mai Kham” (Bodhi tree support) and join the vibrant parade to the temple — a unique Lanna tradition! \n2️⃣ Monk BlessingReceive a traditional water blessing for good luck and prosperity in the new year. \n3️⃣ Lunch TogetherEnjoy a delicious Thai meal with the We Learn Thai family. \n4️⃣ Tuk-Tuk Ride & Water FunHop on a Tuk-Tuk and hit the streets for the ultimate water splashing experience around the city! \n💰 Price:Students: Only 299 THBVisitors / Guests: Only 599 THB \n⚠️ Limited Seats Available!To ensure everyone has the best experience\, we are limiting the number of participants. \n📅 Sign up by: April 10th📍 How to join: Send us a message or sign up directly with your teacher at the school. \nCome and make unforgettable memories with us this Songkran! 🇹🇭✨
URL:https://www.chiangmaikids.com/family-friendly-event-in-chiangmai/we-learn-thai-chiang-mai-celebrate-songkran-lanna-new-year/
LOCATION:We Learn Thai Chiang Mai\, 152/1 Changklan 4thFloor\, Opposit the escalator and The Java Zone Coffee shop - Pantip Life Style Hub\, Chiang Mai\, Chiang Mai\, 50100\, Thailand
ATTACH;FMTTYPE=image/png:https://www.chiangmaikids.com/wp-content/uploads/2026/04/image-390.png
ORGANIZER;CN="We Learn Thai Chiang Mai":MAILTO:nicha@welearnthai.ac.th
END:VEVENT
BEGIN:VEVENT
DTSTART;TZID=Asia/Bangkok:20260421T090000
DTEND;TZID=Asia/Bangkok:20260611T113000
DTSTAMP:20260422T200730
CREATED:20260311T131032Z
LAST-MODIFIED:20260311T131146Z
UID:10007725-1776762000-1781177400@www.chiangmaikids.com
SUMMARY:APIS Chiang Mai Mini & Me Mornings Program
DESCRIPTION:Mini & Me Mornings is now open for Quarter 4\, with limited seats available!  \nOur program welcomes little learners aged 12-24 months to explore\, play\, and learn alongside a parent or caregiver in a warm and nurturing environment  \nJoin our 8-week program (21 April – 11 June 2026)\, held 2 days a week\, Tuesday and Thursday\, from 9:00 – 11:30 AM. Trial options are also available with weekly or single-day sessions to suit your family’s needs.Through play\, songs\, movement\, and hands-on activities\, children establish positive learning habits from an early age while building confidence\, early social skills\, and a love of learning. Spaces are limited—secure your spot and start your child’s learning journey with joyful mornings together  \nFor more information about American Pacific International School (APIS) or to schedule a campus tour\, feel free to contact our admissions team:Visit our website: www.apis.ac.th \nMain CampusPhone: +66 (0)53-365303/5\, +66 (0)94-6318778Email: admissions@apis.ac.th \nPrimary CampusPhone: +66 (0)53-111287-9\, +66 (0)81-7217158Email: pcadmissions@apis.ac.th
URL:https://www.chiangmaikids.com/family-friendly-event-in-chiangmai/american-pacific-international-school-mini-me-mornings-program/
LOCATION:American Pacific International School\, Chiang Mai\, Thailand\, Chiang Mai\, Chiang Mai\, Thailand
ATTACH;FMTTYPE=image/png:https://www.chiangmaikids.com/wp-content/uploads/2026/03/image-100.png
ORGANIZER;CN="American Pacific International School":MAILTO:admissions@apis.ac.th
END:VEVENT
BEGIN:VEVENT
DTSTART;TZID=Asia/Bangkok:20260423T180000
DTEND;TZID=Asia/Bangkok:20260423T210000
DTSTAMP:20260422T200730
CREATED:20260403T152321Z
LAST-MODIFIED:20260403T152321Z
UID:10007767-1776967200-1776978000@www.chiangmaikids.com
SUMMARY:LANNA International School Shakespeare Festival
DESCRIPTION:A British Tradition on Stage: Shakespeare at LANNA 🎭 \nJoin us on Thursday\, 23 April 2026 for an inspiring evening of traditional and contemporary Shakespeare pieces\, featuring students from LANNA and visiting schools across the local community. \nIt promises to be a real celebration of literature\, performance\, and creative expression. \n📍 Demuth Hall\, LANNA International School🕕 Starts at 6:00 PM🎟️ Free entry – all are welcome! \nTo find out more about Arts at LANNA\, contact:📧 info@lannaist.ac.th🔗 https://www.lannaist.ac.th/contact/
URL:https://www.chiangmaikids.com/family-friendly-event-in-chiangmai/lanna-international-school-shakespeare-festival/
LOCATION:Lanna International School Thailand\, 166 Moo 10 Baan Waen\, Amphoe Hang Dong\, Chiang Mai\,\, Chiang Mai\, 50230
ATTACH;FMTTYPE=image/jpeg:https://www.chiangmaikids.com/wp-content/uploads/2026/04/662066180_1529615122499910_3745935009876832878_n.jpg
ORGANIZER;CN="Lanna International School Thailand":MAILTO:info@lannaist.ac.th
END:VEVENT
BEGIN:VEVENT
DTSTART;TZID=Asia/Bangkok:20260425T090000
DTEND;TZID=Asia/Bangkok:20260425T110000
DTSTAMP:20260422T200730
CREATED:20260421T151506Z
LAST-MODIFIED:20260421T151506Z
UID:10007778-1777107600-1777114800@www.chiangmaikids.com
SUMMARY:Meritton Early Years Open House: Teddy Bear Picnic
DESCRIPTION:Early Years Open House: Teddy Bear Picnic 🧸✨ \nEnjoy a waived registration fee worth 60\,000 Baht🎁 Free exclusive gift when you join \nWe are excited to invite parents and children aged 1–5 years (Pre-Nursery\, Nursery\, and Reception) to experience our open house at Meritton British International School \n📅 Saturday\, 25 April 2026⏰ 9:00 – 11:00 AM (Registration from 08:30 AM)📍 Meritton British International School\, Chiang Mai \n🎉 Activities include:🧸 Bring your favourite teddy👩‍🏫 Meet Meritton’s teachers🏫 School tour📖 Goldilocks & The Three Bears Story Picnic🔍 Big\, Medium & Small Water Exploration👑 Teddy Bear Picnic Hat Making❄️ Frozen Teddy Bears Sensory Play…and many more! \n📍 Location:https://maps.app.goo.gl/hXMncuUHAc6t4JJSA \n📞 Register:• Send us a message• Call: 093 167 9444• Email: admissions@merittonbritish.com• LINE: @meritton \n📞 Contact:Call: 093 167 9444 (EN/TH)📧 Email: admissions@merittonbritish.com🌐 Website: merittonbritish.ac.th \nCome join a warm\, playful morning filled with learning\, imagination\, and discovery 💛
URL:https://www.chiangmaikids.com/family-friendly-event-in-chiangmai/meritton-early-years-open-house-teddy-bear-picnic/
LOCATION:Meritton British International School\, Chiang Mai\, 168 Moo.7 Nong Kwai\, Amphoe Hang Dong\, Thailand\, Chiang Mai\, 50230\, Thailand
ATTACH;FMTTYPE=image/png:https://www.chiangmaikids.com/wp-content/uploads/2026/04/image-408.png
ORGANIZER;CN="Meritton British International School%2C Chiang Mai":MAILTO:info@merittonbritish.com
END:VEVENT
BEGIN:VEVENT
DTSTART;TZID=Asia/Bangkok:20260428T090000
DTEND;TZID=Asia/Bangkok:20260604T110000
DTSTAMP:20260422T200730
CREATED:20260311T130043Z
LAST-MODIFIED:20260311T130043Z
UID:10007723-1777366800-1780570800@www.chiangmaikids.com
SUMMARY:Lanna International School Early Years Playgroup
DESCRIPTION:Term 3 Early Years Playgroup — Sign Up Now \nThe new Playgroup term will run from 28 April to 4 June\, and is open to children aged 1–2 years with an accompanying adult. \nCome and play\, make friends\, get messy\, and have fun. Enjoy hands-on activities in a safe\, nurturing environment designed to support early childhood development. We look forward to sharing plenty of smiles\, laughter\, and learning with you. \nRegister using the QR code on the poster or email info@lannais.ac.th for more information. \nFind out more about LANNA’s Early Years Childhood Centre of Excellence and Playgroup here:https://tinyurl.com/4jw8fvjr
URL:https://www.chiangmaikids.com/family-friendly-event-in-chiangmai/lanna-international-school-early-years-playgroup/
LOCATION:Lanna International School Thailand\, 166 Moo 10 Baan Waen\, Amphoe Hang Dong\, Chiang Mai\,\, Chiang Mai\, 50230
ORGANIZER;CN="Lanna International School Thailand":MAILTO:info@lannaist.ac.th
END:VEVENT
BEGIN:VEVENT
DTSTART;TZID=Asia/Bangkok:20260506T183000
DTEND;TZID=Asia/Bangkok:20260508T200000
DTSTAMP:20260422T200730
CREATED:20260126T123727Z
LAST-MODIFIED:20260126T123727Z
UID:10007695-1778092200-1778270400@www.chiangmaikids.com
SUMMARY:LANNA Primary Production: Matilda
DESCRIPTION:LANNA Primary Production: Matilda  \nTickets are now on sale for 6\, 7\, and 8 May 2026.The Chiang Mai community is warmly invited. \nSpaces are limited\, so please buy your tickets soon via the QR code on the poster. \nTo find out more about Arts and Drama at LANNA or to arrange a campus visit\, please contact: info@lannaist.ac.th
URL:https://www.chiangmaikids.com/family-friendly-event-in-chiangmai/lanna-primary-production-matilda/
LOCATION:Lanna International School Thailand\, 166 Moo 10 Baan Waen\, Amphoe Hang Dong\, Chiang Mai\,\, Chiang Mai\, 50230
ATTACH;FMTTYPE=image/png:https://www.chiangmaikids.com/wp-content/uploads/2026/01/image-597.png
ORGANIZER;CN="Lanna International School Thailand":MAILTO:info@lannaist.ac.th
END:VEVENT
BEGIN:VEVENT
DTSTART;TZID=Asia/Bangkok:20260513T090000
DTEND;TZID=Asia/Bangkok:20260513T170000
DTSTAMP:20260422T200730
CREATED:20260421T151748Z
LAST-MODIFIED:20260421T151748Z
UID:10007779-1778662800-1778691600@www.chiangmaikids.com
SUMMARY:Lanna International School Open Days (Early Years & Primary)
DESCRIPTION:May Open Days – Register Now \nWe’d love to welcome you to our upcoming Open Days at LANNA \n📅 Early Years & Primary: Wednesday\, 13 May 2026📅 Secondary: Friday\, 15 May 2026 \n🎟️ Sign up here:https://forms.gle/WN5PrdKX6yRZG3GX8 \n✨ Special Benefits• Waived application and registration fees• Special promotional fee discounts \nJoin us to learn more about the school\, meet teachers\, explore the campus\, and discover why LANNA is the right choice for your child’s future \n📞 For more information:📧 Email: info@lannaist.ac.th☎️ Tel: +66 (0) 52 000 838
URL:https://www.chiangmaikids.com/family-friendly-event-in-chiangmai/lanna-international-school-open-days-early-years-primary/
LOCATION:Lanna International School Thailand\, 166 Moo 10 Baan Waen\, Amphoe Hang Dong\, Chiang Mai\,\, Chiang Mai\, 50230
ATTACH;FMTTYPE=image/png:https://www.chiangmaikids.com/wp-content/uploads/2026/04/image-409.png
ORGANIZER;CN="Lanna International School Thailand":MAILTO:info@lannaist.ac.th
END:VEVENT
BEGIN:VEVENT
DTSTART;TZID=Asia/Bangkok:20260515T090000
DTEND;TZID=Asia/Bangkok:20260515T170000
DTSTAMP:20260422T200730
CREATED:20260421T151904Z
LAST-MODIFIED:20260421T151904Z
UID:10007781-1778835600-1778864400@www.chiangmaikids.com
SUMMARY:Lanna International School Open Days (Secondary)
DESCRIPTION:May Open Days – Register Now \nWe’d love to welcome you to our upcoming Open Days at LANNA \n📅 Early Years & Primary: Wednesday\, 13 May 2026📅 Secondary: Friday\, 15 May 2026 \n🎟️ Sign up here:https://forms.gle/WN5PrdKX6yRZG3GX8 \n✨ Special Benefits• Waived application and registration fees• Special promotional fee discounts \nJoin us to learn more about the school\, meet teachers\, explore the campus\, and discover why LANNA is the right choice for your child’s future \n📞 For more information:📧 Email: info@lannaist.ac.th☎️ Tel: +66 (0) 52 000 838
URL:https://www.chiangmaikids.com/family-friendly-event-in-chiangmai/lanna-international-school-open-days-secondary/
LOCATION:Lanna International School Thailand\, 166 Moo 10 Baan Waen\, Amphoe Hang Dong\, Chiang Mai\,\, Chiang Mai\, 50230
ATTACH;FMTTYPE=image/png:https://www.chiangmaikids.com/wp-content/uploads/2026/04/image-409.png
ORGANIZER;CN="Lanna International School Thailand":MAILTO:info@lannaist.ac.th
END:VEVENT
END:VCALENDAR